BEGIN:VCALENDAR
VERSION:2.0
PRODID:-//Funktionsrätt i Örebro Län - ECPv6.15.20//NONSGML v1.0//EN
CALSCALE:GREGORIAN
METHOD:PUBLISH
X-WR-CALNAME:Funktionsrätt i Örebro Län
X-ORIGINAL-URL:https://funktionsrattorebrolan.se
X-WR-CALDESC:Händelser för Funktionsrätt i Örebro Län
REFRESH-INTERVAL;VALUE=DURATION:PT1H
X-Robots-Tag:noindex
X-PUBLISHED-TTL:PT1H
BEGIN:VTIMEZONE
TZID:Europe/Stockholm
BEGIN:DAYLIGHT
TZOFFSETFROM:+0100
TZOFFSETTO:+0200
TZNAME:CEST
DTSTART:20250330T010000
END:DAYLIGHT
BEGIN:STANDARD
TZOFFSETFROM:+0200
TZOFFSETTO:+0100
TZNAME:CET
DTSTART:20251026T010000
END:STANDARD
BEGIN:DAYLIGHT
TZOFFSETFROM:+0100
TZOFFSETTO:+0200
TZNAME:CEST
DTSTART:20260329T010000
END:DAYLIGHT
BEGIN:STANDARD
TZOFFSETFROM:+0200
TZOFFSETTO:+0100
TZNAME:CET
DTSTART:20261025T010000
END:STANDARD
BEGIN:DAYLIGHT
TZOFFSETFROM:+0100
TZOFFSETTO:+0200
TZNAME:CEST
DTSTART:20270328T010000
END:DAYLIGHT
BEGIN:STANDARD
TZOFFSETFROM:+0200
TZOFFSETTO:+0100
TZNAME:CET
DTSTART:20271031T010000
END:STANDARD
END:VTIMEZONE
BEGIN:VEVENT
DTSTART;TZID=Europe/Stockholm:20260420T180000
DTEND;TZID=Europe/Stockholm:20260420T200000
DTSTAMP:20260420T024419
CREATED:20260314T095339Z
LAST-MODIFIED:20260314T095339Z
UID:2268-1776708000-1776715200@funktionsrattorebrolan.se
SUMMARY:Funktionsrätt Örebro kallar till årsmöte
DESCRIPTION:Till medlemsföreningarnas ordföranden eller ersättare samt till Funktionsrätt Örebro läns styrelse. \nKallelse har skickats ut till berörda föreningar.
URL:https://funktionsrattorebrolan.se/event/funktionsratt-orebro-kallar-till-arsmote/
END:VEVENT
END:VCALENDAR